Package: CoverageView Version: 1.47.0 Command: /Library/Frameworks/R.framework/Resources/bin/R CMD build --keep-empty-dirs --no-resave-data CoverageView StartedAt: 2025-10-06 16:01:42 -0400 (Mon, 06 Oct 2025) EndedAt: 2025-10-06 16:02:07 -0400 (Mon, 06 Oct 2025) EllapsedTime: 25.3 seconds RetCode: 0 Status: OK PackageFile: CoverageView_1.47.0.tar.gz PackageFileSize: 2.554 MiB