Package: CoreGx Version: 2.15.0 Command: /Library/Frameworks/R.framework/Resources/bin/R CMD INSTALL CoreGx StartedAt: 2025-11-23 15:15:06 -0500 (Sun, 23 Nov 2025) EndedAt: 2025-11-23 15:15:21 -0500 (Sun, 23 Nov 2025) EllapsedTime: 15.2 seconds RetCode: 0 Status: OK