Package: CoreGx Version: 2.15.0 Command: /Library/Frameworks/R.framework/Resources/bin/R CMD build --keep-empty-dirs --no-resave-data CoreGx StartedAt: 2025-11-23 16:00:37 -0500 (Sun, 23 Nov 2025) EndedAt: 2025-11-23 16:01:00 -0500 (Sun, 23 Nov 2025) EllapsedTime: 23.3 seconds RetCode: 0 Status: OK PackageFile: CoreGx_2.15.0.tar.gz PackageFileSize: 1.364 MiB