Package: CoreGx Version: 2.15.0 Command: rm -rf CoreGx.buildbin-libdir && mkdir CoreGx.buildbin-libdir && /Users/biocbuild/BBS/utils/build-universal.sh CoreGx_2.15.0.tar.gz /Library/Frameworks/R.framework/Resources/bin/R CoreGx.buildbin-libdir StartedAt: 2025-11-23 23:31:09 -0500 (Sun, 23 Nov 2025) EndedAt: 2025-11-23 23:31:29 -0500 (Sun, 23 Nov 2025) EllapsedTime: 19.4 seconds RetCode: 0 Status: OK PackageFile: CoreGx_2.15.0.tgz PackageFileSize: 2.44 MiB