Package: ConsensusClusterPlus Version: 1.75.0 Command: /home/biocbuild/bbs-3.23-bioc/R/bin/R CMD INSTALL ConsensusClusterPlus StartedAt: 2025-11-13 15:13:01 -0500 (Thu, 13 Nov 2025) EndedAt: 2025-11-13 15:13:06 -0500 (Thu, 13 Nov 2025) EllapsedTime: 4.4 seconds RetCode: 0 Status: OK