Package: CompoundDb Version: 1.15.0 Command: /home/biocbuild/bbs-3.23-bioc/R/bin/R CMD INSTALL CompoundDb StartedAt: 2025-11-10 15:39:25 -0500 (Mon, 10 Nov 2025) EndedAt: 2025-11-10 15:39:46 -0500 (Mon, 10 Nov 2025) EllapsedTime: 20.9 seconds RetCode: 0 Status: OK