Package: CompoundDb Version: 1.15.0 Command: /home/biocbuild/bbs-3.23-bioc/R/bin/R CMD build --keep-empty-dirs --no-resave-data CompoundDb StartedAt: 2025-11-10 16:59:17 -0500 (Mon, 10 Nov 2025) EndedAt: 2025-11-10 16:59:51 -0500 (Mon, 10 Nov 2025) EllapsedTime: 34.0 seconds RetCode: 0 Status: OK PackageFile: CompoundDb_1.15.0.tar.gz PackageFileSize: 1.303 MiB