Package: CompoundDb Version: 1.13.0 Command: /Library/Frameworks/R.framework/Resources/bin/R CMD INSTALL CompoundDb StartedAt: 2025-10-21 15:35:25 -0400 (Tue, 21 Oct 2025) EndedAt: 2025-10-21 15:35:55 -0400 (Tue, 21 Oct 2025) EllapsedTime: 30.1 seconds RetCode: 0 Status: OK