Package: CompoundDb Version: 1.13.0 Command: rm -rf CompoundDb.buildbin-libdir && mkdir CompoundDb.buildbin-libdir && /Users/biocbuild/BBS/utils/build-universal.sh CompoundDb_1.13.0.tar.gz /Library/Frameworks/R.framework/Resources/bin/R CompoundDb.buildbin-libdir StartedAt: 2025-10-13 22:38:00 -0400 (Mon, 13 Oct 2025) EndedAt: 2025-10-13 22:38:09 -0400 (Mon, 13 Oct 2025) EllapsedTime: 9.2 seconds RetCode: 0 Status: OK PackageFile: CompoundDb_1.13.0.tgz PackageFileSize: 1.448 MiB