Package: ClusterSignificance Version: 1.39.0 Command: /Library/Frameworks/R.framework/Resources/bin/R CMD INSTALL ClusterSignificance StartedAt: 2025-11-21 15:03:29 -0500 (Fri, 21 Nov 2025) EndedAt: 2025-11-21 15:03:35 -0500 (Fri, 21 Nov 2025) EllapsedTime: 6.3 seconds RetCode: 0 Status: OK