Package: ClusterSignificance Version: 1.39.0 Command: /Library/Frameworks/R.framework/Resources/bin/R CMD build --keep-empty-dirs --no-resave-data ClusterSignificance StartedAt: 2025-11-21 15:55:43 -0500 (Fri, 21 Nov 2025) EndedAt: 2025-11-21 15:56:04 -0500 (Fri, 21 Nov 2025) EllapsedTime: 20.2 seconds RetCode: 0 Status: OK PackageFile: ClusterSignificance_1.39.0.tar.gz PackageFileSize: 2.113 MiB