Package: ClusterJudge Version: 1.31.0 Command: /home/biocbuild/bbs-3.22-bioc/R/bin/R CMD INSTALL ClusterJudge StartedAt: 2025-10-01 15:13:53 -0400 (Wed, 01 Oct 2025) EndedAt: 2025-10-01 15:13:59 -0400 (Wed, 01 Oct 2025) EllapsedTime: 5.7 seconds RetCode: 0 Status: OK