Package: ClusterFoldSimilarity Version: 1.5.0 Command: /home/biocbuild/bbs-3.22-bioc/R/bin/R CMD build --keep-empty-dirs --no-resave-data --md5 ClusterFoldSimilarity StartedAt: 2025-09-29 17:08:34 -0400 (Mon, 29 Sep 2025) EndedAt: 2025-09-29 17:17:31 -0400 (Mon, 29 Sep 2025) EllapsedTime: 536.6 seconds RetCode: 0 Status: OK PackageFile: ClusterFoldSimilarity_1.5.0.tar.gz PackageFileSize: 1.542 MiB