Package: ClassifyR Version: 3.15.0 Command: /Library/Frameworks/R.framework/Resources/bin/R CMD INSTALL ClassifyR StartedAt: 2025-11-21 15:29:57 -0500 (Fri, 21 Nov 2025) EndedAt: 2025-11-21 15:30:46 -0500 (Fri, 21 Nov 2025) EllapsedTime: 48.6 seconds RetCode: 0 Status: OK