Package: ClassifyR Version: 3.15.0 Command: rm -rf ClassifyR.buildbin-libdir && mkdir ClassifyR.buildbin-libdir && /Users/biocbuild/BBS/utils/build-universal.sh ClassifyR_3.15.0.tar.gz /Library/Frameworks/R.framework/Resources/bin/R ClassifyR.buildbin-libdir StartedAt: 2025-11-22 01:27:10 -0500 (Sat, 22 Nov 2025) EndedAt: 2025-11-22 01:28:05 -0500 (Sat, 22 Nov 2025) EllapsedTime: 54.4 seconds RetCode: 0 Status: OK PackageFile: ClassifyR_3.15.0.tgz PackageFileSize: 2.545 MiB