Package: ChromSCape Version: 1.19.1 Command: /home/biocbuild/bbs-3.22-bioc/R/bin/R CMD INSTALL ChromSCape StartedAt: 2025-09-30 15:55:30 -0400 (Tue, 30 Sep 2025) EndedAt: 2025-09-30 15:56:23 -0400 (Tue, 30 Sep 2025) EllapsedTime: 53.2 seconds RetCode: 0 Status: OK