Package: ChromSCape Version: 1.19.1 Command: /home/biocbuild/bbs-3.22-bioc/R/bin/R CMD build --keep-empty-dirs --no-resave-data --md5 ChromSCape StartedAt: 2025-10-01 17:06:28 -0400 (Wed, 01 Oct 2025) EndedAt: 2025-10-01 17:07:50 -0400 (Wed, 01 Oct 2025) EllapsedTime: 82.1 seconds RetCode: 0 Status: OK PackageFile: ChromSCape_1.19.1.tar.gz PackageFileSize: 5.517 MiB