Package: ChIPsim Version: 1.65.0 Command: /Library/Frameworks/R.framework/Resources/bin/R CMD INSTALL ChIPsim StartedAt: 2025-11-24 15:26:37 -0500 (Mon, 24 Nov 2025) EndedAt: 2025-11-24 15:26:48 -0500 (Mon, 24 Nov 2025) EllapsedTime: 11.6 seconds RetCode: 0 Status: OK