Package: ChIPsim Version: 1.65.0 Command: /Library/Frameworks/R.framework/Resources/bin/R CMD build --keep-empty-dirs --no-resave-data ChIPsim StartedAt: 2025-11-24 15:57:33 -0500 (Mon, 24 Nov 2025) EndedAt: 2025-11-24 15:57:57 -0500 (Mon, 24 Nov 2025) EllapsedTime: 24.2 seconds RetCode: 0 Status: OK PackageFile: ChIPsim_1.65.0.tar.gz PackageFileSize: 647.9 KiB