Package: ChIPsim Version: 1.65.0 Command: rm -rf ChIPsim.buildbin-libdir && mkdir ChIPsim.buildbin-libdir && /Users/biocbuild/BBS/utils/build-universal.sh ChIPsim_1.65.0.tar.gz /Library/Frameworks/R.framework/Resources/bin/R ChIPsim.buildbin-libdir StartedAt: 2025-11-24 23:34:49 -0500 (Mon, 24 Nov 2025) EndedAt: 2025-11-24 23:35:04 -0500 (Mon, 24 Nov 2025) EllapsedTime: 14.3 seconds RetCode: 0 Status: OK PackageFile: ChIPsim_1.65.0.tgz PackageFileSize: 762.3 KiB