Package: ChIPseqR Version: 1.63.0 Command: /home/biocbuild/bbs-3.22-bioc/R/bin/R CMD INSTALL ChIPseqR StartedAt: 2025-10-08 16:09:45 -0400 (Wed, 08 Oct 2025) EndedAt: 2025-10-08 16:10:29 -0400 (Wed, 08 Oct 2025) EllapsedTime: 43.9 seconds RetCode: 0 Status: OK