Package: ChIPseqR Version: 1.63.0 Command: /home/biocbuild/bbs-3.22-bioc/R/bin/R CMD build --keep-empty-dirs --no-resave-data --md5 ChIPseqR StartedAt: 2025-10-08 17:09:21 -0400 (Wed, 08 Oct 2025) EndedAt: 2025-10-08 17:10:32 -0400 (Wed, 08 Oct 2025) EllapsedTime: 71.1 seconds RetCode: 0 Status: OK PackageFile: ChIPseqR_1.63.0.tar.gz PackageFileSize: 731 KiB