Package: ChIPXpress Version: 1.53.0 Command: /home/biocbuild/bbs-3.22-bioc/R/bin/R CMD INSTALL ChIPXpress StartedAt: 2025-10-17 16:00:16 -0400 (Fri, 17 Oct 2025) EndedAt: 2025-10-17 16:00:45 -0400 (Fri, 17 Oct 2025) EllapsedTime: 28.6 seconds RetCode: 0 Status: OK