Package: ChIPComp Version: 1.41.0 Command: /home/biocbuild/bbs-3.23-bioc/R/bin/R CMD INSTALL ChIPComp StartedAt: 2025-11-25 15:35:12 -0500 (Tue, 25 Nov 2025) EndedAt: 2025-11-25 15:35:43 -0500 (Tue, 25 Nov 2025) EllapsedTime: 31.0 seconds RetCode: 0 Status: OK