Package: ChIPComp Version: 1.41.0 Command: /home/biocbuild/bbs-3.23-bioc/R/bin/R CMD build --keep-empty-dirs --no-resave-data ChIPComp StartedAt: 2025-11-26 16:47:28 -0500 (Wed, 26 Nov 2025) EndedAt: 2025-11-26 16:48:21 -0500 (Wed, 26 Nov 2025) EllapsedTime: 53.1 seconds RetCode: 0 Status: OK PackageFile: ChIPComp_1.41.0.tar.gz PackageFileSize: 597 KiB