Package: ChIPComp Version: 1.41.0 Command: /Library/Frameworks/R.framework/Resources/bin/R CMD INSTALL ChIPComp StartedAt: 2025-11-18 15:35:09 -0500 (Tue, 18 Nov 2025) EndedAt: 2025-11-18 15:35:51 -0500 (Tue, 18 Nov 2025) EllapsedTime: 41.8 seconds RetCode: 0 Status: OK