Package: ChIPComp Version: 1.41.0 Command: /Library/Frameworks/R.framework/Resources/bin/R CMD build --keep-empty-dirs --no-resave-data ChIPComp StartedAt: 2025-11-18 16:24:50 -0500 (Tue, 18 Nov 2025) EndedAt: 2025-11-18 16:25:54 -0500 (Tue, 18 Nov 2025) EllapsedTime: 64.0 seconds RetCode: 0 Status: OK PackageFile: ChIPComp_1.41.0.tar.gz PackageFileSize: 595.8 KiB