Package: CellMixS Version: 1.27.0 Command: /Library/Frameworks/R.framework/Resources/bin/R CMD INSTALL CellMixS StartedAt: 2025-11-25 15:30:25 -0500 (Tue, 25 Nov 2025) EndedAt: 2025-11-25 15:30:36 -0500 (Tue, 25 Nov 2025) EllapsedTime: 11.4 seconds RetCode: 0 Status: OK