Package: CellMixS Version: 1.27.0 Command: /Library/Frameworks/R.framework/Resources/bin/R CMD build --keep-empty-dirs --no-resave-data CellMixS StartedAt: 2025-11-25 15:51:30 -0500 (Tue, 25 Nov 2025) EndedAt: 2025-11-25 15:52:20 -0500 (Tue, 25 Nov 2025) EllapsedTime: 50.5 seconds RetCode: 0 Status: OK PackageFile: CellMixS_1.27.0.tar.gz PackageFileSize: 4.124 MiB