Package: CellMapper Version: 1.37.0 Command: /home/biocbuild/bbs-3.23-bioc/R/bin/R CMD INSTALL CellMapper StartedAt: 2025-11-14 15:12:59 -0500 (Fri, 14 Nov 2025) EndedAt: 2025-11-14 15:13:04 -0500 (Fri, 14 Nov 2025) EllapsedTime: 4.8 seconds RetCode: 0 Status: OK