Package: CellMapper Version: 1.35.0 Command: /Library/Frameworks/R.framework/Resources/bin/R CMD INSTALL CellMapper StartedAt: 2025-10-03 15:13:51 -0400 (Fri, 03 Oct 2025) EndedAt: 2025-10-03 15:13:59 -0400 (Fri, 03 Oct 2025) EllapsedTime: 8.5 seconds RetCode: 0 Status: OK