Package: CellMapper Version: 1.35.0 Command: /Library/Frameworks/R.framework/Resources/bin/R CMD INSTALL CellMapper StartedAt: 2025-09-29 15:06:41 -0400 (Mon, 29 Sep 2025) EndedAt: 2025-09-29 15:06:43 -0400 (Mon, 29 Sep 2025) EllapsedTime: 2.3 seconds RetCode: 0 Status: OK