Package: CellMapper Version: 1.37.0 Maintainer: Brad Nelms MaintainerEmail: bnelms.research at gmail.com git_url: https://git.bioconductor.org/packages/CellMapper git_branch: devel git_last_commit: 1372904 git_last_commit_date: 2025-10-29 10:33:44 -0400 (Wed, 29 Oct 2025)