Package: CardinalIO Version: 1.7.0 Command: /home/biocbuild/bbs-3.22-bioc/R/bin/R CMD INSTALL CardinalIO StartedAt: 2025-09-30 15:12:52 -0400 (Tue, 30 Sep 2025) EndedAt: 2025-09-30 15:13:09 -0400 (Tue, 30 Sep 2025) EllapsedTime: 16.2 seconds RetCode: 0 Status: OK