Package: Cardinal Version: 3.11.0 Command: /home/biocbuild/bbs-3.22-bioc/R/bin/R CMD INSTALL Cardinal StartedAt: 2025-10-01 15:15:17 -0400 (Wed, 01 Oct 2025) EndedAt: 2025-10-01 15:15:46 -0400 (Wed, 01 Oct 2025) EllapsedTime: 28.2 seconds RetCode: 0 Status: OK