Package: Cardinal Version: 3.11.0 Command: /home/biocbuild/bbs-3.22-bioc/R/bin/R CMD build --keep-empty-dirs --no-resave-data --md5 Cardinal StartedAt: 2025-10-02 16:37:28 -0400 (Thu, 02 Oct 2025) EndedAt: 2025-10-02 16:44:56 -0400 (Thu, 02 Oct 2025) EllapsedTime: 447.4 seconds RetCode: 0 Status: OK PackageFile: Cardinal_3.11.0.tar.gz PackageFileSize: 5.17 MiB