Package: CaMutQC Version: 1.5.5 Command: /home/biocbuild/bbs-3.22-bioc/R/bin/R CMD INSTALL CaMutQC StartedAt: 2025-10-08 16:02:45 -0400 (Wed, 08 Oct 2025) EndedAt: 2025-10-08 16:03:25 -0400 (Wed, 08 Oct 2025) EllapsedTime: 39.4 seconds RetCode: 0 Status: OK