Package: CaMutQC Version: 1.5.5 Command: /home/biocbuild/bbs-3.22-bioc/R/bin/R CMD build --keep-empty-dirs --no-resave-data --md5 CaMutQC StartedAt: 2025-10-09 16:41:03 -0400 (Thu, 09 Oct 2025) EndedAt: 2025-10-09 16:42:10 -0400 (Thu, 09 Oct 2025) EllapsedTime: 67.1 seconds RetCode: 0 Status: OK PackageFile: CaMutQC_1.5.5.tar.gz PackageFileSize: 5.314 MiB