Package: CSOA Version: 0.99.2 Command: /home/biocbuild/bbs-3.22-bioc/R/bin/R CMD INSTALL CSOA StartedAt: 2025-10-10 15:31:07 -0400 (Fri, 10 Oct 2025) EndedAt: 2025-10-10 15:31:44 -0400 (Fri, 10 Oct 2025) EllapsedTime: 37.3 seconds RetCode: 0 Status: OK