Package: CSOA Version: 0.99.2 Command: /home/biocbuild/bbs-3.22-bioc/R/bin/R CMD build --keep-empty-dirs --no-resave-data --md5 CSOA StartedAt: 2025-10-10 17:17:34 -0400 (Fri, 10 Oct 2025) EndedAt: 2025-10-10 17:19:58 -0400 (Fri, 10 Oct 2025) EllapsedTime: 144.1 seconds RetCode: 0 Status: OK PackageFile: CSOA_0.99.2.tar.gz PackageFileSize: 2.755 MiB