Package: CSOA Version: 1.1.0 Command: /home/biocbuild/bbs-3.23-bioc/R/bin/R CMD INSTALL CSOA StartedAt: 2025-11-07 15:17:22 -0500 (Fri, 07 Nov 2025) EndedAt: 2025-11-07 15:17:59 -0500 (Fri, 07 Nov 2025) EllapsedTime: 37.0 seconds RetCode: 0 Status: OK