Package: CSOA Version: 1.1.0 Command: /home/biocbuild/bbs-3.23-bioc/R/bin/R CMD build --keep-empty-dirs --no-resave-data CSOA StartedAt: 2025-11-07 17:01:26 -0500 (Fri, 07 Nov 2025) EndedAt: 2025-11-07 17:03:49 -0500 (Fri, 07 Nov 2025) EllapsedTime: 143.2 seconds RetCode: 0 Status: OK PackageFile: CSOA_1.1.0.tar.gz PackageFileSize: 2.739 MiB