Package: CSOA Version: 0.99.2 Command: /Library/Frameworks/R.framework/Resources/bin/R CMD INSTALL CSOA StartedAt: 2025-10-08 15:24:24 -0400 (Wed, 08 Oct 2025) EndedAt: 2025-10-08 15:25:20 -0400 (Wed, 08 Oct 2025) EllapsedTime: 55.9 seconds RetCode: 0 Status: OK