Package: CSOA Version: 0.99.2 Command: /Library/Frameworks/R.framework/Resources/bin/R CMD build --keep-empty-dirs --no-resave-data CSOA StartedAt: 2025-10-09 16:37:21 -0400 (Thu, 09 Oct 2025) EndedAt: 2025-10-09 16:41:10 -0400 (Thu, 09 Oct 2025) EllapsedTime: 229.8 seconds RetCode: 0 Status: OK PackageFile: CSOA_0.99.2.tar.gz PackageFileSize: 2.795 MiB