Package: CSOA Version: 0.99.2 Command: /Library/Frameworks/R.framework/Resources/bin/R CMD INSTALL CSOA StartedAt: 2025-10-03 15:12:11 -0400 (Fri, 03 Oct 2025) EndedAt: 2025-10-03 15:12:27 -0400 (Fri, 03 Oct 2025) EllapsedTime: 16.8 seconds RetCode: 0 Status: OK