Package: CSAR Version: 1.63.0 Command: /Library/Frameworks/R.framework/Resources/bin/R CMD INSTALL CSAR StartedAt: 2025-11-27 15:50:26 -0500 (Thu, 27 Nov 2025) EndedAt: 2025-11-27 15:50:39 -0500 (Thu, 27 Nov 2025) EllapsedTime: 13.3 seconds RetCode: 0 Status: OK