Package: CSAR Version: 1.63.0 Command: /Library/Frameworks/R.framework/Resources/bin/R CMD INSTALL CSAR StartedAt: 2025-11-21 15:30:48 -0500 (Fri, 21 Nov 2025) EndedAt: 2025-11-21 15:30:52 -0500 (Fri, 21 Nov 2025) EllapsedTime: 4.1 seconds RetCode: 0 Status: OK