Package: CSAR Version: 1.63.0 Command: /Library/Frameworks/R.framework/Resources/bin/R CMD build --keep-empty-dirs --no-resave-data CSAR StartedAt: 2025-11-21 16:02:05 -0500 (Fri, 21 Nov 2025) EndedAt: 2025-11-21 16:02:18 -0500 (Fri, 21 Nov 2025) EllapsedTime: 13.2 seconds RetCode: 0 Status: OK PackageFile: CSAR_1.63.0.tar.gz PackageFileSize: 233 KiB