Package: CSAR Version: 1.63.0 Command: rm -rf CSAR.buildbin-libdir && mkdir CSAR.buildbin-libdir && /Users/biocbuild/BBS/utils/build-universal.sh CSAR_1.63.0.tar.gz /Library/Frameworks/R.framework/Resources/bin/R CSAR.buildbin-libdir StartedAt: 2025-11-21 23:28:17 -0500 (Fri, 21 Nov 2025) EndedAt: 2025-11-21 23:28:22 -0500 (Fri, 21 Nov 2025) EllapsedTime: 5.1 seconds RetCode: 0 Status: OK PackageFile: CSAR_1.63.0.tgz PackageFileSize: 304.7 KiB