Package: COSNet Version: 1.45.0 Command: /Library/Frameworks/R.framework/Resources/bin/R CMD INSTALL COSNet StartedAt: 2025-11-16 20:09:40 -0500 (Sun, 16 Nov 2025) EndedAt: 2025-11-16 20:09:49 -0500 (Sun, 16 Nov 2025) EllapsedTime: 9.2 seconds RetCode: 0 Status: OK